{ "currentVersion": 11.5, "cimVersion": "3.5.0", "serviceDescription": "TOL Grey Basemap showing communities, roads parcels and addresses.", "mapName": "Layers", "description": "
Standard TOL Basemap showing communities, roads parcels and addresses.<\/SPAN><\/P><\/DIV><\/DIV>",
"copyrightText": "",
"supportsDynamicLayers": false,
"layers": [
{
"id": 0,
"name": "Municipal Boundary (Grey)",
"parentLayerId": -1,
"defaultVisibility": true,
"subLayerIds": null,
"minScale": 500000,
"maxScale": 5001,
"type": "Feature Layer",
"geometryType": "esriGeometryPolygon",
"supportsDynamicLegends": true
},
{
"id": 1,
"name": "Transportation",
"parentLayerId": -1,
"defaultVisibility": true,
"subLayerIds": [
2,
3,
4,
5,
6,
7,
8,
9,
10,
11,
12
],
"minScale": 0,
"maxScale": 0,
"type": "Group Layer",
"supportsDynamicLegends": false
},
{
"id": 2,
"name": "Rail Line (Grey)",
"parentLayerId": 1,
"defaultVisibility": true,
"subLayerIds": null,
"minScale": 0,
"maxScale": 0,
"type": "Feature Layer",
"geometryType": "esriGeometryPolyline",
"supportsDynamicLegends": true
},
{
"id": 3,
"name": "Road Grid",
"parentLayerId": 1,
"defaultVisibility": true,
"subLayerIds": null,
"minScale": 350000,
"maxScale": 40000,
"type": "Feature Layer",
"geometryType": "esriGeometryPolyline",
"supportsDynamicLegends": true
},
{
"id": 4,
"name": "Lower Mainland Roads Labels",
"parentLayerId": 1,
"defaultVisibility": true,
"subLayerIds": null,
"minScale": 20000,
"maxScale": 0,
"type": "Feature Layer",
"geometryType": "esriGeometryPolyline",
"supportsDynamicLegends": true
},
{
"id": 5,
"name": "Roads-500K-75K",
"parentLayerId": 1,
"defaultVisibility": true,
"subLayerIds": null,
"minScale": 500000,
"maxScale": 75001,
"type": "Feature Layer",
"geometryType": "esriGeometryPolyline",
"supportsDynamicLegends": true
},
{
"id": 6,
"name": "Roads-75K-20KB",
"parentLayerId": 1,
"defaultVisibility": true,
"subLayerIds": null,
"minScale": 75000,
"maxScale": 20001,
"type": "Feature Layer",
"geometryType": "esriGeometryPolyline",
"supportsDynamicLegends": true
},
{
"id": 7,
"name": "Roads-20K-5K",
"parentLayerId": 1,
"defaultVisibility": true,
"subLayerIds": null,
"minScale": 20000,
"maxScale": 5001,
"type": "Feature Layer",
"geometryType": "esriGeometryPolyline",
"supportsDynamicLegends": true
},
{
"id": 8,
"name": "Roads-5K-3K",
"parentLayerId": 1,
"defaultVisibility": true,
"subLayerIds": null,
"minScale": 5000,
"maxScale": 3001,
"type": "Feature Layer",
"geometryType": "esriGeometryPolyline",
"supportsDynamicLegends": true
},
{
"id": 9,
"name": "Roads-3K-1.5K",
"parentLayerId": 1,
"defaultVisibility": true,
"subLayerIds": null,
"minScale": 3000,
"maxScale": 1501,
"type": "Feature Layer",
"geometryType": "esriGeometryPolyline",
"supportsDynamicLegends": true
},
{
"id": 10,
"name": "Roads-1.5K-0K",
"parentLayerId": 1,
"defaultVisibility": true,
"subLayerIds": null,
"minScale": 1500,
"maxScale": 0,
"type": "Feature Layer",
"geometryType": "esriGeometryPolyline",
"supportsDynamicLegends": true
},
{
"id": 11,
"name": "Lower Mainland Roads Up Close",
"parentLayerId": 1,
"defaultVisibility": true,
"subLayerIds": null,
"minScale": 20000,
"maxScale": 0,
"type": "Feature Layer",
"geometryType": "esriGeometryPolyline",
"supportsDynamicLegends": true
},
{
"id": 12,
"name": "Lower Mainland Roads",
"parentLayerId": 1,
"defaultVisibility": true,
"subLayerIds": null,
"minScale": 0,
"maxScale": 20001,
"type": "Feature Layer",
"geometryType": "esriGeometryPolyline",
"supportsDynamicLegends": true
},
{
"id": 13,
"name": "Boundaries",
"parentLayerId": -1,
"defaultVisibility": true,
"subLayerIds": [
14
],
"minScale": 0,
"maxScale": 0,
"type": "Group Layer",
"supportsDynamicLegends": false
},
{
"id": 14,
"name": "Municipal Boundary (Grey)",
"parentLayerId": 13,
"defaultVisibility": true,
"subLayerIds": null,
"minScale": 30000,
"maxScale": 0,
"type": "Feature Layer",
"geometryType": "esriGeometryPolygon",
"supportsDynamicLegends": true
},
{
"id": 15,
"name": "Cadastral",
"parentLayerId": -1,
"defaultVisibility": true,
"subLayerIds": [
16,
17,
18,
19
],
"minScale": 0,
"maxScale": 0,
"type": "Group Layer",
"supportsDynamicLegends": false
},
{
"id": 16,
"name": "Pseudo Lot Lines (Grey)",
"parentLayerId": 15,
"defaultVisibility": true,
"subLayerIds": null,
"minScale": 20000,
"maxScale": 0,
"type": "Feature Layer",
"geometryType": "esriGeometryPolyline",
"supportsDynamicLegends": true
},
{
"id": 17,
"name": "Parcels (Grey)",
"parentLayerId": 15,
"defaultVisibility": true,
"subLayerIds": null,
"minScale": 10000,
"maxScale": 0,
"type": "Feature Layer",
"geometryType": "esriGeometryPolygon",
"supportsDynamicLegends": true
},
{
"id": 18,
"name": "Parcels",
"parentLayerId": 15,
"defaultVisibility": true,
"subLayerIds": null,
"minScale": 10000,
"maxScale": 0,
"type": "Feature Layer",
"geometryType": "esriGeometryPolygon",
"supportsDynamicLegends": true
},
{
"id": 19,
"name": "Easements (Grey)",
"parentLayerId": 15,
"defaultVisibility": true,
"subLayerIds": null,
"minScale": 2000,
"maxScale": 0,
"type": "Feature Layer",
"geometryType": "esriGeometryPolygon",
"supportsDynamicLegends": true
},
{
"id": 20,
"name": "Pavement",
"parentLayerId": -1,
"defaultVisibility": true,
"subLayerIds": [
21,
22,
23
],
"minScale": 0,
"maxScale": 0,
"type": "Group Layer",
"supportsDynamicLegends": false
},
{
"id": 21,
"name": "Medians",
"parentLayerId": 20,
"defaultVisibility": true,
"subLayerIds": null,
"minScale": 5000,
"maxScale": 0,
"type": "Feature Layer",
"geometryType": "esriGeometryPolygon",
"supportsDynamicLegends": true
},
{
"id": 22,
"name": "Islands",
"parentLayerId": 20,
"defaultVisibility": true,
"subLayerIds": null,
"minScale": 5000,
"maxScale": 0,
"type": "Feature Layer",
"geometryType": "esriGeometryPolygon",
"supportsDynamicLegends": true
},
{
"id": 23,
"name": "Road Edge Polygons",
"parentLayerId": 20,
"defaultVisibility": true,
"subLayerIds": null,
"minScale": 5000,
"maxScale": 0,
"type": "Feature Layer",
"geometryType": "esriGeometryPolygon",
"supportsDynamicLegends": true
},
{
"id": 24,
"name": "Fraser River",
"parentLayerId": -1,
"defaultVisibility": true,
"subLayerIds": null,
"minScale": 0,
"maxScale": 0,
"type": "Feature Layer",
"geometryType": "esriGeometryPolygon",
"supportsDynamicLegends": true
},
{
"id": 25,
"name": "Water Bodies (Grey)",
"parentLayerId": -1,
"defaultVisibility": true,
"subLayerIds": null,
"minScale": 20000,
"maxScale": 0,
"type": "Feature Layer",
"geometryType": "esriGeometryPolygon",
"supportsDynamicLegends": true
},
{
"id": 26,
"name": "Major Streams (Grey)",
"parentLayerId": -1,
"defaultVisibility": true,
"subLayerIds": null,
"minScale": 20000,
"maxScale": 0,
"type": "Feature Layer",
"geometryType": "esriGeometryPolyline",
"supportsDynamicLegends": true
},
{
"id": 27,
"name": "Green Spaces",
"parentLayerId": -1,
"defaultVisibility": true,
"subLayerIds": [
28,
29
],
"minScale": 0,
"maxScale": 0,
"type": "Group Layer",
"supportsDynamicLegends": false
},
{
"id": 28,
"name": "Parks (Grey)",
"parentLayerId": 27,
"defaultVisibility": true,
"subLayerIds": null,
"minScale": 50000,
"maxScale": 0,
"type": "Feature Layer",
"geometryType": "esriGeometryPolygon",
"supportsDynamicLegends": true
},
{
"id": 29,
"name": "Greenways (Grey)",
"parentLayerId": 27,
"defaultVisibility": true,
"subLayerIds": null,
"minScale": 50000,
"maxScale": 0,
"type": "Feature Layer",
"geometryType": "esriGeometryPolygon",
"supportsDynamicLegends": true
},
{
"id": 30,
"name": "Cartographic Layers",
"parentLayerId": -1,
"defaultVisibility": true,
"subLayerIds": [
31,
32,
38,
39,
40,
41
],
"minScale": 0,
"maxScale": 0,
"type": "Group Layer",
"supportsDynamicLegends": false
},
{
"id": 31,
"name": "Lower Mainland Municipalities",
"parentLayerId": 30,
"defaultVisibility": true,
"subLayerIds": null,
"minScale": 20000,
"maxScale": 0,
"type": "Feature Layer",
"geometryType": "esriGeometryPolygon",
"supportsDynamicLegends": true
},
{
"id": 32,
"name": "Other Municipalities",
"parentLayerId": 30,
"defaultVisibility": true,
"subLayerIds": [
42,
34,
35,
36,
37
],
"minScale": 0,
"maxScale": 0,
"type": "Group Layer",
"supportsDynamicLegends": false
},
{
"id": 42,
"name": "Ext_Surrey_Addresses",
"parentLayerId": 32,
"defaultVisibility": true,
"subLayerIds": [
33
],
"minScale": 2000,
"maxScale": 0,
"type": "Annotation Layer",
"geometryType": "esriGeometryPolygon",
"supportsDynamicLegends": false
},
{
"id": 33,
"name": "Default",
"parentLayerId": 42,
"defaultVisibility": true,
"subLayerIds": null,
"minScale": 0,
"maxScale": 0,
"supportsDynamicLegends": false
},
{
"id": 34,
"name": "Ext_Surrey_Right_of_Ways",
"parentLayerId": 32,
"defaultVisibility": true,
"subLayerIds": null,
"minScale": 5000,
"maxScale": 0,
"type": "Feature Layer",
"geometryType": "esriGeometryPolygon",
"supportsDynamicLegends": true
},
{
"id": 35,
"name": "Ext_Surrey_Parcels",
"parentLayerId": 32,
"defaultVisibility": true,
"subLayerIds": null,
"minScale": 20000,
"maxScale": 0,
"type": "Feature Layer",
"geometryType": "esriGeometryPolygon",
"supportsDynamicLegends": true
},
{
"id": 36,
"name": "Ext_Abbots_Parcels",
"parentLayerId": 32,
"defaultVisibility": true,
"subLayerIds": null,
"minScale": 20000,
"maxScale": 0,
"type": "Feature Layer",
"geometryType": "esriGeometryPolygon",
"supportsDynamicLegends": true
},
{
"id": 37,
"name": "Ext_Langley_City_Parcels",
"parentLayerId": 32,
"defaultVisibility": true,
"subLayerIds": null,
"minScale": 20000,
"maxScale": 0,
"type": "Feature Layer",
"geometryType": "esriGeometryPolygon",
"supportsDynamicLegends": true
},
{
"id": 38,
"name": "LowerMainlandHillshade",
"parentLayerId": 30,
"defaultVisibility": true,
"subLayerIds": null,
"minScale": 0,
"maxScale": 20001,
"type": "Raster Layer",
"supportsDynamicLegends": true
},
{
"id": 39,
"name": "Lower Mainland Municipalities",
"parentLayerId": 30,
"defaultVisibility": true,
"subLayerIds": null,
"minScale": 0,
"maxScale": 20001,
"type": "Feature Layer",
"geometryType": "esriGeometryPolygon",
"supportsDynamicLegends": true
},
{
"id": 40,
"name": "Hillshade",
"parentLayerId": 30,
"defaultVisibility": true,
"subLayerIds": null,
"minScale": 20000,
"maxScale": 0,
"type": "Raster Layer",
"supportsDynamicLegends": true
},
{
"id": 41,
"name": "Parcel Gaps",
"parentLayerId": 30,
"defaultVisibility": true,
"subLayerIds": null,
"minScale": 5000,
"maxScale": 0,
"type": "Feature Layer",
"geometryType": "esriGeometryPolygon",
"supportsDynamicLegends": true
}
],
"tables": [],
"spatialReference": {
"wkid": 26910,
"latestWkid": 26910,
"xyTolerance": 0.001,
"zTolerance": 2,
"mTolerance": 0.001,
"falseX": -5120900,
"falseY": -9998100,
"xyUnits": 4.504455473910538E8,
"falseZ": 0,
"zUnits": 1,
"falseM": -100000,
"mUnits": 10000
},
"singleFusedMapCache": true,
"tileInfo": {
"rows": 256,
"cols": 256,
"dpi": 96,
"format": "MIXED",
"compressionQuality": 75,
"origin": {
"x": -5120900,
"y": 9998100
},
"spatialReference": {
"wkid": 26910,
"latestWkid": 26910,
"xyTolerance": 0.001,
"zTolerance": 2,
"mTolerance": 0.001,
"falseX": -5120900,
"falseY": -9998100,
"xyUnits": 4.504455473910538E8,
"falseZ": 0,
"zUnits": 1,
"falseM": -100000,
"mUnits": 10000
},
"lods": [
{
"level": 0,
"resolution": 66.1459656252646,
"scale": 250000
},
{
"level": 1,
"resolution": 33.0729828126323,
"scale": 125000
},
{
"level": 2,
"resolution": 19.843789687579378,
"scale": 75000
},
{
"level": 3,
"resolution": 13.229193125052918,
"scale": 50000
},
{
"level": 4,
"resolution": 6.614596562526459,
"scale": 25000
},
{
"level": 5,
"resolution": 3.9687579375158752,
"scale": 15000
},
{
"level": 6,
"resolution": 1.9843789687579376,
"scale": 7500
},
{
"level": 7,
"resolution": 1.0583354500042335,
"scale": 4000
},
{
"level": 8,
"resolution": 0.5291677250021167,
"scale": 2000
},
{
"level": 9,
"resolution": 0.26458386250105836,
"scale": 1000
},
{
"level": 10,
"resolution": 0.13229193125052918,
"scale": 500
},
{
"level": 11,
"resolution": 0.06614596562526459,
"scale": 250
}
]
},
"storageInfo": {
"storageFormat": "esriMapCacheStorageModeCompactV2",
"packetSize": 128
},
"initialExtent": {
"xmin": 509516.5087932125,
"ymin": 5427196.75945203,
"xmax": 554793.4222637061,
"ymax": 5451736.912699003,
"spatialReference": {
"wkid": 26910,
"latestWkid": 26910,
"xyTolerance": 0.001,
"zTolerance": 2,
"mTolerance": 0.001,
"falseX": -5120900,
"falseY": -9998100,
"xyUnits": 4.504455473910538E8,
"falseZ": 0,
"zUnits": 1,
"falseM": -100000,
"mUnits": 10000
}
},
"fullExtent": {
"xmin": 494071.252964402,
"ymin": 5423285.21662241,
"xmax": 567427.1288428204,
"ymax": 5469322.808697594,
"spatialReference": {
"wkid": 26910,
"latestWkid": 26910,
"xyTolerance": 0.001,
"zTolerance": 2,
"mTolerance": 0.001,
"falseX": -5120900,
"falseY": -9998100,
"xyUnits": 4.504455473910538E8,
"falseZ": 0,
"zUnits": 1,
"falseM": -100000,
"mUnits": 10000
}
},
"datesInUnknownTimezone": false,
"minScale": 250000,
"maxScale": 250,
"units": "esriMeters",
"supportedImageFormatTypes": "PNG32,PNG24,PNG,JPG,DIB,TIFF,EMF,PS,PDF,GIF,SVG,SVGZ,BMP",
"documentInfo": {
"Title": "Basemap_Grey",
"Author": "",
"Comments": " Standard TOL Basemap showing communities, roads parcels and addresses.<\/SPAN><\/P><\/DIV><\/DIV>",
"Subject": "Standard TOL Basemap",
"Category": "",
"Version": "2.6.0",
"AntialiasingMode": "Best",
"TextAntialiasingMode": "Force",
"Keywords": "Basemap TOL"
},
"supportsQueryDomains": true,
"capabilities": "Map",
"supportedQueryFormats": "JSON, geoJSON, PBF",
"hasVersionedData": true,
"exportTilesAllowed": false,
"referenceScale": 3000.0,
"datumTransformations": [
{
"geoTransforms": [
{
"wkid": 108001,
"latestWkid": 1241,
"transformForward": true,
"name": "NAD_1927_To_NAD_1983_NADCON"
}
]
},
{
"geoTransforms": [
{
"wkid": 108001,
"latestWkid": 1241,
"transformForward": false,
"name": "NAD_1927_To_NAD_1983_NADCON"
}
]
}
],
"supportsDatumTransformation": true,
"archivingInfo": {"supportsHistoricMoment": true},
"supportsClipping": true,
"supportsSpatialFilter": true,
"supportsTimeRelation": true,
"supportsQueryDataElements": true,
"mapUnits": {"uwkid": 9001},
"maxSelectionCount": 2000,
"maxRecordCount": 1000,
"maxImageHeight": 4096,
"maxImageWidth": 4096,
"supportedExtensions": ""
}