{
 "currentVersion": 11.5,
 "cimVersion": "3.5.0",
 "serviceDescription": "2005 Aerial Photography",
 "mapName": "Layers",
 "description": "2005 Aerial Photography",
 "copyrightText": "Scott McQuarrie",
 "supportsDynamicLayers": false,
 "layers": [
  {
   "id": 0,
   "name": "2005 Orthophoto",
   "parentLayerId": -1,
   "defaultVisibility": true,
   "subLayerIds": null,
   "minScale": 0,
   "maxScale": 0,
   "type": "Raster Layer",
   "supportsDynamicLegends": true
  }
 ],
 "tables": [],
 "spatialReference": {
  "wkid": 26910,
  "latestWkid": 26910,
  "xyTolerance": 0.001,
  "zTolerance": 2,
  "mTolerance": 2,
  "falseX": -5120900,
  "falseY": -9998100,
  "xyUnits": 4.504455473910538E8,
  "falseZ": 0,
  "zUnits": 1,
  "falseM": -100000,
  "mUnits": 10000
 },
 "singleFusedMapCache": true,
 "tileInfo": {
  "rows": 256,
  "cols": 256,
  "dpi": 96,
  "format": "MIXED",
  "compressionQuality": 100,
  "origin": {
   "x": -5120900,
   "y": 9998100
  },
  "spatialReference": {
   "wkid": 26910,
   "latestWkid": 26910,
   "xyTolerance": 0.001,
   "zTolerance": 2,
   "mTolerance": 0.001,
   "falseX": -5120900,
   "falseY": -9998100,
   "xyUnits": 4.504455473910538E8,
   "falseZ": 0,
   "zUnits": 1,
   "falseM": -100000,
   "mUnits": 10000
  },
  "lods": [
   {
    "level": 0,
    "resolution": 66.1459656252646,
    "scale": 250000
   },
   {
    "level": 1,
    "resolution": 33.0729828126323,
    "scale": 125000
   },
   {
    "level": 2,
    "resolution": 19.843789687579378,
    "scale": 75000
   },
   {
    "level": 3,
    "resolution": 13.229193125052918,
    "scale": 50000
   },
   {
    "level": 4,
    "resolution": 6.614596562526459,
    "scale": 25000
   },
   {
    "level": 5,
    "resolution": 3.9687579375158752,
    "scale": 15000
   },
   {
    "level": 6,
    "resolution": 1.9843789687579376,
    "scale": 7500
   },
   {
    "level": 7,
    "resolution": 1.0583354500042335,
    "scale": 4000
   },
   {
    "level": 8,
    "resolution": 0.5291677250021167,
    "scale": 2000
   },
   {
    "level": 9,
    "resolution": 0.26458386250105836,
    "scale": 1000
   },
   {
    "level": 10,
    "resolution": 0.13229193125052918,
    "scale": 500
   },
   {
    "level": 11,
    "resolution": 0.06614596562526459,
    "scale": 250
   }
  ]
 },
 "storageInfo": {
  "storageFormat": "esriMapCacheStorageModeCompactV2",
  "packetSize": 128
 },
 "initialExtent": {
  "xmin": 505112.2749168237,
  "ymin": 5427162.586234001,
  "xmax": 561984.5761614263,
  "ymax": 5454189.827788485,
  "spatialReference": {
   "wkid": 26910,
   "latestWkid": 26910,
   "xyTolerance": 0.001,
   "zTolerance": 2,
   "mTolerance": 2,
   "falseX": -5120900,
   "falseY": -9998100,
   "xyUnits": 4.504455473910538E8,
   "falseZ": 0,
   "zUnits": 1,
   "falseM": -100000,
   "mUnits": 10000
  }
 },
 "fullExtent": {
  "xmin": 523357.0112501988,
  "ymin": 5427737.052857034,
  "xmax": 539523.0111899758,
  "ymax": 5451569.052768253,
  "spatialReference": {
   "wkid": 26910,
   "latestWkid": 26910,
   "xyTolerance": 0.001,
   "zTolerance": 2,
   "mTolerance": 2,
   "falseX": -5120900,
   "falseY": -9998100,
   "xyUnits": 4.504455473910538E8,
   "falseZ": 0,
   "zUnits": 1,
   "falseM": -100000,
   "mUnits": 10000
  }
 },
 "datesInUnknownTimezone": false,
 "minScale": 250000,
 "maxScale": 250,
 "units": "esriMeters",
 "supportedImageFormatTypes": "PNG32,PNG24,PNG,JPG,DIB,TIFF,EMF,PS,PDF,GIF,SVG,SVGZ,BMP",
 "documentInfo": {
  "Title": "Untitled.aprx",
  "Author": "",
  "Comments": "2005 Aerial Photography",
  "Subject": "2005 Aerial Photography",
  "Category": "",
  "Version": "2.6.0",
  "AntialiasingMode": "Best",
  "TextAntialiasingMode": "Force",
  "Keywords": "Basemap TOL,Aerial,2005"
 },
 "supportsQueryDomains": true,
 "capabilities": "Map",
 "supportedQueryFormats": "JSON, geoJSON, PBF",
 "exportTilesAllowed": false,
 "referenceScale": 0.0,
 "datumTransformations": [
  {
   "geoTransforms": [
    {
     "wkid": 108001,
     "latestWkid": 1241,
     "transformForward": true,
     "name": "NAD_1927_To_NAD_1983_NADCON"
    }
   ]
  },
  {
   "geoTransforms": [
    {
     "wkid": 108001,
     "latestWkid": 1241,
     "transformForward": false,
     "name": "NAD_1927_To_NAD_1983_NADCON"
    }
   ]
  }
 ],
 "supportsDatumTransformation": true,
 "archivingInfo": {
  "supportsHistoricMoment": false
 },
 "supportsClipping": true,
 "supportsSpatialFilter": true,
 "supportsTimeRelation": true,
 "supportsQueryDataElements": true,
 "mapUnits": {
  "uwkid": 9001
 },
 "maxSelectionCount": 2000,
 "maxRecordCount": 1000,
 "maxImageHeight": 4096,
 "maxImageWidth": 4096,
 "supportedExtensions": ""
}
